BEGIN:VCALENDAR
VERSION:2.0
PRODID:-//Göteborgs scoutdistrikt - ECPv6.15.17//NONSGML v1.0//EN
CALSCALE:GREGORIAN
METHOD:PUBLISH
X-WR-CALNAME:Göteborgs scoutdistrikt
X-ORIGINAL-URL:https://www.gbgscout.se
X-WR-CALDESC:Händelser för Göteborgs scoutdistrikt
REFRESH-INTERVAL;VALUE=DURATION:PT1H
X-Robots-Tag:noindex
X-PUBLISHED-TTL:PT1H
BEGIN:VTIMEZONE
TZID:Europe/Stockholm
BEGIN:DAYLIGHT
TZOFFSETFROM:+0100
TZOFFSETTO:+0200
TZNAME:CEST
DTSTART:20250330T010000
END:DAYLIGHT
BEGIN:STANDARD
TZOFFSETFROM:+0200
TZOFFSETTO:+0100
TZNAME:CET
DTSTART:20251026T010000
END:STANDARD
BEGIN:DAYLIGHT
TZOFFSETFROM:+0100
TZOFFSETTO:+0200
TZNAME:CEST
DTSTART:20260329T010000
END:DAYLIGHT
BEGIN:STANDARD
TZOFFSETFROM:+0200
TZOFFSETTO:+0100
TZNAME:CET
DTSTART:20261025T010000
END:STANDARD
BEGIN:DAYLIGHT
TZOFFSETFROM:+0100
TZOFFSETTO:+0200
TZNAME:CEST
DTSTART:20270328T010000
END:DAYLIGHT
BEGIN:STANDARD
TZOFFSETFROM:+0200
TZOFFSETTO:+0100
TZNAME:CET
DTSTART:20271031T010000
END:STANDARD
END:VTIMEZONE
BEGIN:VEVENT
DTSTART;VALUE=DATE:20260423
DTEND;VALUE=DATE:20260424
DTSTAMP:20260423T012836
CREATED:20251217T133219Z
LAST-MODIFIED:20251217T133312Z
UID:19687-1776902400-1776988799@www.gbgscout.se
SUMMARY:Sankt Georgesfirande i Slottsskogen
DESCRIPTION:Den 23 april varje år firar scouter över hela världen Sankt Georgsdagen\nLÄS MER OM ARRANGEMANGET HÄR
URL:https://www.gbgscout.se/kalender/sankt-georgesfirande-i-slottsskogen/
LOCATION:slottsskogen\, Sverige
CATEGORIES:Äventyrare,Distriktsaktiva,Ledare,Publika arrangemang,Rover,Spårare,Upptäckare,Utmanare
ORGANIZER;CN="G%C3%B6teborgs scoutdistrikt":MAILTO:info@gbgscout.se
END:VEVENT
BEGIN:VEVENT
DTSTART;VALUE=DATE:20260423
DTEND;VALUE=DATE:20260424
DTSTAMP:20260423T012836
CREATED:20251217T133817Z
LAST-MODIFIED:20260416T111914Z
UID:19690-1776902400-1776988799@www.gbgscout.se
SUMMARY:Grill-RUT i Slotsskogen
DESCRIPTION:Utmamanare och Roverscouter!\nKom till Slottsskogen 23 april med tom mage för då blir det nämligen GRILLAT med RUT\nI samband med St Georgsfiranade vis Scoutstenen i Slottskogen bjuder RUT på korv. Klicka på länken för mer info!\n  \nSankt Georg
URL:https://www.gbgscout.se/kalender/grill-rut-i-slotsskogen/
LOCATION:slottsskogen\, Sverige
CATEGORIES:Rover,Utmanare
ORGANIZER;CN="G%C3%B6teborgs scoutdistrikt":MAILTO:info@gbgscout.se
END:VEVENT
BEGIN:VEVENT
DTSTART;VALUE=DATE:20260423
DTEND;VALUE=DATE:20260424
DTSTAMP:20260423T012836
CREATED:20251218T123628Z
LAST-MODIFIED:20260203T164210Z
UID:19756-1776902400-1776988799@www.gbgscout.se
SUMMARY:Torsdagsfix på S/Y Mandalay
DESCRIPTION:VÄLKOMMEN PÅ TORSDAGSFIX!\nÄven utanför seglingssäsongen finns det mycket roligt att göra på Mandalay. Vi kör på torsdagar18 – ca 20\, håll utkik här i kalendern och i våra sociala medier På våra fixarkvällar utlovas gott umgänge och mat/fika!\nInformation och kontakt mandalay@gbgscout.se \nFacebook\nInstagram
URL:https://www.gbgscout.se/kalender/torsdagsfix-pa-s-y-mandalay/2026-04-23/
LOCATION:Kulturhamn Eriksberg\, Sjöporten 5\, Göteborg\, 417 64\, Sverige
CATEGORIES:Ledare,Mandalay,Rover,Utmanare
ORGANIZER;CN="G%C3%B6teborgs scoutdistrikt":MAILTO:info@gbgscout.se
END:VEVENT
END:VCALENDAR