BEGIN:VCALENDAR
VERSION:2.0
PRODID:-//Göteborgs scoutdistrikt - ECPv6.15.20//NONSGML v1.0//EN
CALSCALE:GREGORIAN
METHOD:PUBLISH
X-WR-CALNAME:Göteborgs scoutdistrikt
X-ORIGINAL-URL:https://www.gbgscout.se
X-WR-CALDESC:Händelser för Göteborgs scoutdistrikt
REFRESH-INTERVAL;VALUE=DURATION:PT1H
X-Robots-Tag:noindex
X-PUBLISHED-TTL:PT1H
BEGIN:VTIMEZONE
TZID:Europe/Stockholm
BEGIN:DAYLIGHT
TZOFFSETFROM:+0100
TZOFFSETTO:+0200
TZNAME:CEST
DTSTART:20250330T010000
END:DAYLIGHT
BEGIN:STANDARD
TZOFFSETFROM:+0200
TZOFFSETTO:+0100
TZNAME:CET
DTSTART:20251026T010000
END:STANDARD
BEGIN:DAYLIGHT
TZOFFSETFROM:+0100
TZOFFSETTO:+0200
TZNAME:CEST
DTSTART:20260329T010000
END:DAYLIGHT
BEGIN:STANDARD
TZOFFSETFROM:+0200
TZOFFSETTO:+0100
TZNAME:CET
DTSTART:20261025T010000
END:STANDARD
BEGIN:DAYLIGHT
TZOFFSETFROM:+0100
TZOFFSETTO:+0200
TZNAME:CEST
DTSTART:20270328T010000
END:DAYLIGHT
BEGIN:STANDARD
TZOFFSETFROM:+0200
TZOFFSETTO:+0100
TZNAME:CET
DTSTART:20271031T010000
END:STANDARD
END:VTIMEZONE
BEGIN:VEVENT
DTSTART;VALUE=DATE:20260425
DTEND;VALUE=DATE:20260426
DTSTAMP:20260425T012022
CREATED:20260225T130517Z
LAST-MODIFIED:20260225T130617Z
UID:20078-1777075200-1777161599@www.gbgscout.se
SUMMARY:Arbetsdag på S/Y Mandalay
DESCRIPTION:Välkommen på arbetsdag!\nIdag sätter vi fokus på att rigga på skutan\n(vi vet att detta krockar med badkarsrallyt men hoppas att några ändå vill komma)  \nInformation och kontakt mandalay@gbgscout.se
URL:https://www.gbgscout.se/kalender/arbetsdag-pa-s-y-mandalay-2/
CATEGORIES:Ledare,Mandalay,Rover,Utmanare
ORGANIZER;CN="G%C3%B6teborgs scoutdistrikt":MAILTO:info@gbgscout.se
END:VEVENT
BEGIN:VEVENT
DTSTART;VALUE=DATE:20260425
DTEND;VALUE=DATE:20260426
DTSTAMP:20260425T012022
CREATED:20260302T111106Z
LAST-MODIFIED:20260302T111106Z
UID:20142-1777075200-1777161599@www.gbgscout.se
SUMMARY:Badkarsrally - Porthälla scoutkår
DESCRIPTION:Porthälla scoutkår anordnar badkarsrally i Säveån 25 april\nAll information finns på deras hemsida\nhttps://porthalla.scout.se/badkarsrallyt/
URL:https://www.gbgscout.se/kalender/badkarsrally-porthalla-scoutkar/
CATEGORIES:Publika arrangemang
END:VEVENT
END:VCALENDAR